BEGIN:VCALENDAR
VERSION:2.0
PRODID:-//q-Staff Theatre - ECPv6.15.11//NONSGML v1.0//EN
CALSCALE:GREGORIAN
METHOD:PUBLISH
X-WR-CALNAME:q-Staff Theatre
X-ORIGINAL-URL:https://q-staff.com
X-WR-CALDESC:Events for q-Staff Theatre
REFRESH-INTERVAL;VALUE=DURATION:PT1H
X-Robots-Tag:noindex
X-PUBLISHED-TTL:PT1H
BEGIN:VTIMEZONE
TZID:America/Denver
BEGIN:DAYLIGHT
TZOFFSETFROM:-0700
TZOFFSETTO:-0600
TZNAME:MDT
DTSTART:20250309T090000
END:DAYLIGHT
BEGIN:STANDARD
TZOFFSETFROM:-0600
TZOFFSETTO:-0700
TZNAME:MST
DTSTART:20251102T080000
END:STANDARD
BEGIN:DAYLIGHT
TZOFFSETFROM:-0700
TZOFFSETTO:-0600
TZNAME:MDT
DTSTART:20260308T090000
END:DAYLIGHT
BEGIN:STANDARD
TZOFFSETFROM:-0600
TZOFFSETTO:-0700
TZNAME:MST
DTSTART:20261101T080000
END:STANDARD
BEGIN:DAYLIGHT
TZOFFSETFROM:-0700
TZOFFSETTO:-0600
TZNAME:MDT
DTSTART:20270314T090000
END:DAYLIGHT
BEGIN:STANDARD
TZOFFSETFROM:-0600
TZOFFSETTO:-0700
TZNAME:MST
DTSTART:20271107T080000
END:STANDARD
END:VTIMEZONE
BEGIN:VEVENT
DTSTART;TZID=America/Denver:20260424T190000
DTEND;TZID=America/Denver:20260424T210000
DTSTAMP:20260424T044652
CREATED:20260401T223735Z
LAST-MODIFIED:20260401T223735Z
UID:2545-1777057200-1777064400@q-staff.com
SUMMARY:Cardboard Playhouse Theatre Company presents: SIX
DESCRIPTION:Six: Teen Edition\n\n\n\n\n\n\nA full-length adaptation of Toby Marlow and Lucy Moss’ international phenomenon. \nDivorced\, beheaded\, died\, divorced\, beheaded\, survived. From Tudor Queens to Pop Icons\, the SIX wives of Henry VIII take the mic to remix five hundred years of historical heartbreak into a Euphoric Celebration of 21st-century girl power! This new original musical is the global sensation that everyone is losing their head over.
URL:https://q-staff.com/event/cardboard-playhouse-theatre-company-presents-six/
ATTACH;FMTTYPE=image/png:https://q-staff.com/wordpress/wp-content/uploads/2026/04/Six.png
END:VEVENT
END:VCALENDAR