BEGIN:VCALENDAR
VERSION:2.0
PRODID:-//q-Staff Theatre - ECPv6.15.11//NONSGML v1.0//EN
CALSCALE:GREGORIAN
METHOD:PUBLISH
X-ORIGINAL-URL:https://q-staff.com
X-WR-CALDESC:Events for q-Staff Theatre
REFRESH-INTERVAL;VALUE=DURATION:PT1H
X-Robots-Tag:noindex
X-PUBLISHED-TTL:PT1H
BEGIN:VTIMEZONE
TZID:America/Denver
BEGIN:DAYLIGHT
TZOFFSETFROM:-0700
TZOFFSETTO:-0600
TZNAME:MDT
DTSTART:20230312T090000
END:DAYLIGHT
BEGIN:STANDARD
TZOFFSETFROM:-0600
TZOFFSETTO:-0700
TZNAME:MST
DTSTART:20231105T080000
END:STANDARD
BEGIN:DAYLIGHT
TZOFFSETFROM:-0700
TZOFFSETTO:-0600
TZNAME:MDT
DTSTART:20240310T090000
END:DAYLIGHT
BEGIN:STANDARD
TZOFFSETFROM:-0600
TZOFFSETTO:-0700
TZNAME:MST
DTSTART:20241103T080000
END:STANDARD
BEGIN:DAYLIGHT
TZOFFSETFROM:-0700
TZOFFSETTO:-0600
TZNAME:MDT
DTSTART:20250309T090000
END:DAYLIGHT
BEGIN:STANDARD
TZOFFSETFROM:-0600
TZOFFSETTO:-0700
TZNAME:MST
DTSTART:20251102T080000
END:STANDARD
BEGIN:DAYLIGHT
TZOFFSETFROM:-0700
TZOFFSETTO:-0600
TZNAME:MDT
DTSTART:20260308T090000
END:DAYLIGHT
BEGIN:STANDARD
TZOFFSETFROM:-0600
TZOFFSETTO:-0700
TZNAME:MST
DTSTART:20261101T080000
END:STANDARD
END:VTIMEZONE
BEGIN:VEVENT
DTSTART;TZID=America/Denver:20251107T200000
DTEND;TZID=America/Denver:20251107T223000
DTSTAMP:20260424T030139
CREATED:20251102T183015Z
LAST-MODIFIED:20251102T183015Z
UID:2475-1762545600-1762554600@q-staff.com
SUMMARY:Carter Anderson Comedy!
DESCRIPTION:One night only!\nCarter Anderson at q-Staff! \nFriday November 7th \n8pm to 10:30 pm \nDoors open at 7:30 pm \nAll tickets $15
URL:https://q-staff.com/event/carter-anderson-comedy/
LOCATION:q-Staff theatre\, 400 Broadway Blvd SE\, Albuquerque\, NM\, 87102\, United States
CATEGORIES:Comedy,Live Theater
ATTACH;FMTTYPE=image/webp:https://q-staff.com/wordpress/wp-content/uploads/2025/11/Carter-Anderson.webp
ORGANIZER;CN="q-Staff Theatre":MAILTO:stimmstaffer@yahoo.com
END:VEVENT
BEGIN:VEVENT
DTSTART;TZID=America/Denver:20241206T200000
DTEND;TZID=America/Denver:20241206T213000
DTSTAMP:20260424T030139
CREATED:20241204T135020Z
LAST-MODIFIED:20241204T135020Z
UID:2385-1733515200-1733520600@q-staff.com
SUMMARY:Sammy Obeid:  Live in Albuquerque  8:30pm
DESCRIPTION:Comedian Sammy Obeid (Netflix\, Conan) performs one night only at q-Staff Theatre on Friday\, December 6; two shows at 7:00 pm & 8:30 pm. \n\n\n\n\n\n\n\n\n\n\n\n\n\n\n\n\n\n\n\nLocation\n\n \n\nQ-Staff Theatre \n400 Broadway Boulevard Southeast Albuquerque\, NM 87102 \nShow map\n\n\n\n\n\n\n\n\n\n\n\nRefund Policy\n\nRefunds up to 7 days before event\nEventbrite’s fee is nonrefundable.\n\n\n\n\n\n\n\nAbout this event\n\n\nEvent lasts 3 hours\n\n\n\n\n\n\nJoin Sammy for one amazing night at q-Staff Theatre\, where it all happens through Great Art. Step through the front door and into a world of possibility… \nFirst show | Doors 6:45 pm\, Show 7:00 pm \nSecond show | Doors 8:30 pm\, Show 8:45 pm \nAll ages welcome! Drinks and concessions available for sale! \nLebanese-Palestinian American\, born in Oakland California\, Sammy Obeid double majored in Business and Mathematics at UC Berkeley and then turned down a job at Google to be a comedian. Now the host of 100 Humans on Netflix\, he’s also appeared on NBC’s Last Comic Standing and America’s Got Talent\,as well as TBS’s Conan\, and is best known for his world record of performing comedy 1\,001 nights in a row\, a story featured in both Time Magazine and The New York Times.
URL:https://q-staff.com/event/sammy-obeid-live-in-albuquerque-830pm/
LOCATION:q-Staff theatre\, 400 Broadway Blvd SE\, Albuquerque\, NM\, 87102\, United States
CATEGORIES:Comedy,Live Theater
ATTACH;FMTTYPE=image/jpeg:https://q-staff.com/wordpress/wp-content/uploads/2024/12/Sammy.jpeg
END:VEVENT
BEGIN:VEVENT
DTSTART;TZID=America/Denver:20241206T183000
DTEND;TZID=America/Denver:20241206T200000
DTSTAMP:20260424T030139
CREATED:20241204T134442Z
LAST-MODIFIED:20241204T134442Z
UID:2380-1733509800-1733515200@q-staff.com
SUMMARY:Sammy Obeid:   Live in Albuquerque   7:00pm
DESCRIPTION:Sammy Obeid: Live in Albuquerque\n\n\n\n\nComedian Sammy Obeid (Netflix\, Conan) performs one night only at q-Staff Theatre on Friday\, December 6; two shows at 7:00 pm & 8:30 pm. \n\n\n\n\n\n\n\n\nLocation\n\n \n\nQ-Staff Theatre \n400 Broadway Boulevard Southeast Albuquerque\, NM 87102 \nShow map\n\n\n\n\n\n\n\n\n\n\n\nRefund Policy\n\nRefunds up to 7 days before event\nEventbrite’s fee is nonrefundable.\n\n\n\n\n\n\n\nAbout this event\n\n\nEvent lasts 3 hours\n\n\n\n\n\n\nJoin Sammy for one amazing night at q-Staff Theatre\, where it all happens through Great Art. Step through the front door and into a world of possibility… \nFirst show | Doors 6:45 pm\, Show 7:00 pm \nSecond show | Doors 8:30 pm\, Show 8:45 pm \nAll ages welcome! Drinks and concessions available for sale! \nLebanese-Palestinian American\, born in Oakland California\, Sammy Obeid double majored in Business and Mathematics at UC Berkeley and then turned down a job at Google to be a comedian. Now the host of 100 Humans on Netflix\, he’s also appeared on NBC’s Last Comic Standing and America’s Got Talent\,as well as TBS’s Conan\, and is best known for his world record of performing comedy 1\,001 nights in a row\, a story featured in both Time Magazine and The New York Times.
URL:https://q-staff.com/event/sammy-obeid-live-in-albuquerque-700pm/
LOCATION:q-Staff theatre\, 400 Broadway Blvd SE\, Albuquerque\, NM\, 87102\, United States
CATEGORIES:Comedy,Live Theater
ATTACH;FMTTYPE=image/jpeg:https://q-staff.com/wordpress/wp-content/uploads/2024/12/Sammy.jpeg
END:VEVENT
BEGIN:VEVENT
DTSTART;TZID=America/Denver:20240908T140000
DTEND;TZID=America/Denver:20240908T160000
DTSTAMP:20260424T030139
CREATED:20240828T195128Z
LAST-MODIFIED:20240828T195128Z
UID:2353-1725804000-1725811200@q-staff.com
SUMMARY:Mommie Dearest! A staged reading
DESCRIPTION:The ViVa Players Present: Mommie Dearest\, a staged reading.\nSeptember 6\, 7\, and 8\, at q-Staff Theatre.  400 Broadway Blvd SE.\nThe ViVa Players\, have been delighting Albuquerque audiences with family-friendly entertainment for over 90 years. They currently hold the international record for consecutive annual productions of “Arsenic and Old Lace.”\nUnder the new\, visionary artistic direction of Toto Pendragon\, however\, the Players have been branching out into edgier territory.  And they seem to have developed a real knack for choosing wildly inappropriate projects.\nThis season includes a series of staged readings celebrating the “greatest” films of all time.  Tonight’s presentation:  Mommie Dearest.\n\n\nTICKETS AT BOSQUECSL.ORG/MOMMIE
URL:https://q-staff.com/event/mommie-dearest-a-staged-reading-3/
LOCATION:q-Staff theatre\, 400 Broadway Blvd SE\, Albuquerque\, NM\, 87102\, United States
CATEGORIES:Comedy,Community,Live Theater
ATTACH;FMTTYPE=image/jpeg:https://q-staff.com/wordpress/wp-content/uploads/2024/08/VPMD-2x.jpeg
END:VEVENT
BEGIN:VEVENT
DTSTART;TZID=America/Denver:20240907T193000
DTEND;TZID=America/Denver:20240907T213000
DTSTAMP:20260424T030139
CREATED:20240828T194843Z
LAST-MODIFIED:20240828T194843Z
UID:2351-1725737400-1725744600@q-staff.com
SUMMARY:Mommie Dearest! A staged Reading
DESCRIPTION:The ViVa Players Present: Mommie Dearest\, a staged reading.\nSeptember 6\, 7\, and 8\, at q-Staff Theatre.  400 Broadway Blvd SE.\nThe ViVa Players\, have been delighting Albuquerque audiences with family-friendly entertainment for over 90 years. They currently hold the international record for consecutive annual productions of “Arsenic and Old Lace.”\nUnder the new\, visionary artistic direction of Toto Pendragon\, however\, the Players have been branching out into edgier territory.  And they seem to have developed a real knack for choosing wildly inappropriate projects.\nThis season includes a series of staged readings celebrating the “greatest” films of all time.  Tonight’s presentation:  Mommie Dearest.\n\n\nTICKETS AT BOSQUECSL.ORG/MOMMIE
URL:https://q-staff.com/event/mommie-dearest-a-staged-reading-2/
LOCATION:q-Staff theatre\, 400 Broadway Blvd SE\, Albuquerque\, NM\, 87102\, United States
CATEGORIES:Comedy,Live Theater
ATTACH;FMTTYPE=image/jpeg:https://q-staff.com/wordpress/wp-content/uploads/2024/08/VPMD-2x.jpeg
END:VEVENT
BEGIN:VEVENT
DTSTART;TZID=America/Denver:20240906T193000
DTEND;TZID=America/Denver:20240906T213000
DTSTAMP:20260424T030139
CREATED:20240828T194524Z
LAST-MODIFIED:20240828T194524Z
UID:2348-1725651000-1725658200@q-staff.com
SUMMARY:Mommie Dearest! A staged Reading
DESCRIPTION:The ViVa Players Present: Mommie Dearest\, a staged reading.\nSeptember 6\, 7\, and 8\, at q-Staff Theatre.  400 Broadway Blvd SE.\nThe ViVa Players\, have been delighting Albuquerque audiences with family-friendly entertainment for over 90 years. They currently hold the international record for consecutive annual productions of “Arsenic and Old Lace.”\nUnder the new\, visionary artistic direction of Toto Pendragon\, however\, the Players have been branching out into edgier territory.  And they seem to have developed a real knack for choosing wildly inappropriate projects.\nThis season includes a series of staged readings celebrating the “greatest” films of all time.  Tonight’s presentation:  Mommie Dearest.\n\n\nTICKETS AT BOSQUECSL.ORG/MOMMIE
URL:https://q-staff.com/event/mommie-dearest-a-staged-reading/
LOCATION:q-Staff theatre\, 400 Broadway Blvd SE\, Albuquerque\, NM\, 87102\, United States
CATEGORIES:Comedy,Community,Live Theater
ATTACH;FMTTYPE=image/jpeg:https://q-staff.com/wordpress/wp-content/uploads/2024/08/VPMD-2x.jpeg
ORGANIZER;CN="q-Staff Theatre":MAILTO:stimmstaffer@yahoo.com
END:VEVENT
BEGIN:VEVENT
DTSTART;TZID=America/Denver:20240721T200000
DTEND;TZID=America/Denver:20240721T220000
DTSTAMP:20260424T030139
CREATED:20240522T182341Z
LAST-MODIFIED:20240625T134359Z
UID:2283-1721592000-1721599200@q-staff.com
SUMMARY:seaMAN
DESCRIPTION:seaMAN: a wacky nautical horror comedy takes the stage at q-Staff! \nAn all new production from award-winning queer theatermakers Amica Hunter & Bruce Ryan Costella \n \nseaMAN –  A Queer Nautical Comedy!\nBy 2 Sleepy RatGuys (Amica Hunter & Bruce Ryan Costella)The spray of sea salt\, the creak of the boards\, a flash of lightning\, and BOOM! Captain Sea MAN has arrived! This show is a whirlwind of revenge-fueled sea-venture combining outrageous physical comedy with a few dark twists and turns. Alternately played by two actors\, it’s a one-man-show by two featuring the saltiest sailor to ever set sail on the several seas. Prepare yourself for a hilarious on-stage scenic boat tour that promises fishing\, the ocean breeze … and SO much more. seaMAN is a sweet & salty theatrical concoction that is as stupid as it is smart. Like the illegitimate love child of Gilligan’s Island and Robert Eggers’ The Lighthouse. \n \nDoors at 7:30pm\, Show at 8:00pm. 60 min long\, no intermission\, NC-17\n \n\n“Professionally ridiculous” – The Sappy Critic \n“It’s strange. It’s funny. […] That’s what makes it so good.” – Kings River Life MagazineAbout the Artists:2 Sleepy RatGuysis the cross-country collaboration of queer theatre-makers Amica Hunter (they/them) based in Portland\, OR\, & Bruce Ryan Costella (he/they) from Orlando\, FL. The two met while touring separate solo shows on the Fringe theater festival circuit\, and formed an instant friendship. With a combined 30 years of experience touring original work on the fringe\, and a mutual admiration for each other’s work\, they decided to team up. Bruce’s skill for nuanced clever text easily melds with Amica’s physical comedy training and bizarre humor to create absurd\, campy\, dark\, and comedic theatrical babies (shows) like nothing you’ve seen before! \n\n 
URL:https://q-staff.com/event/seaman-2024-07-21/
LOCATION:q-Staff theatre\, 400 Broadway Blvd SE\, Albuquerque\, NM\, 87102\, United States
CATEGORIES:Comedy,Community,Live Theater
ATTACH;FMTTYPE=image/jpeg:https://q-staff.com/wordpress/wp-content/uploads/2024/05/Copy-of-Seman-serious-gay-10-x-10-in-1.jpg
ORGANIZER;CN="q-Staff Theatre":MAILTO:stimmstaffer@yahoo.com
END:VEVENT
BEGIN:VEVENT
DTSTART;TZID=America/Denver:20240720T200000
DTEND;TZID=America/Denver:20240720T220000
DTSTAMP:20260424T030139
CREATED:20240522T182341Z
LAST-MODIFIED:20240625T134329Z
UID:2280-1721505600-1721512800@q-staff.com
SUMMARY:seaMAN
DESCRIPTION:seaMAN: a wacky nautical horror comedy takes the stage at q-Staff! \nAn all new production from award-winning queer theatermakers Amica Hunter & Bruce Ryan Costella \n \nseaMAN –  A Queer Nautical Comedy!\nBy 2 Sleepy RatGuys (Amica Hunter & Bruce Ryan Costella)The spray of sea salt\, the creak of the boards\, a flash of lightning\, and BOOM! Captain Sea MAN has arrived! This show is a whirlwind of revenge-fueled sea-venture combining outrageous physical comedy with a few dark twists and turns. Alternately played by two actors\, it’s a one-man-show by two featuring the saltiest sailor to ever set sail on the several seas. Prepare yourself for a hilarious on-stage scenic boat tour that promises fishing\, the ocean breeze … and SO much more. seaMAN is a sweet & salty theatrical concoction that is as stupid as it is smart. Like the illegitimate love child of Gilligan’s Island and Robert Eggers’ The Lighthouse. \n \nDoors at 7:30pm\, Show at 8:00pm. 60 min long\, no intermission\, NC-17\n \n\n“Professionally ridiculous” – The Sappy Critic \n“It’s strange. It’s funny. […] That’s what makes it so good.” – Kings River Life MagazineAbout the Artists:2 Sleepy RatGuysis the cross-country collaboration of queer theatre-makers Amica Hunter (they/them) based in Portland\, OR\, & Bruce Ryan Costella (he/they) from Orlando\, FL. The two met while touring separate solo shows on the Fringe theater festival circuit\, and formed an instant friendship. With a combined 30 years of experience touring original work on the fringe\, and a mutual admiration for each other’s work\, they decided to team up. Bruce’s skill for nuanced clever text easily melds with Amica’s physical comedy training and bizarre humor to create absurd\, campy\, dark\, and comedic theatrical babies (shows) like nothing you’ve seen before! \n\n 
URL:https://q-staff.com/event/seaman/
LOCATION:q-Staff theatre\, 400 Broadway Blvd SE\, Albuquerque\, NM\, 87102\, United States
CATEGORIES:Comedy,Community,Live Theater
ATTACH;FMTTYPE=image/jpeg:https://q-staff.com/wordpress/wp-content/uploads/2024/05/Copy-of-Seman-serious-gay-10-x-10-in-1.jpg
ORGANIZER;CN="q-Staff Theatre":MAILTO:stimmstaffer@yahoo.com
END:VEVENT
BEGIN:VEVENT
DTSTART;TZID=America/Denver:20240719T200000
DTEND;TZID=America/Denver:20240719T220000
DTSTAMP:20260424T030139
CREATED:20240522T181639Z
LAST-MODIFIED:20240613T181647Z
UID:2277-1721419200-1721426400@q-staff.com
SUMMARY:Anatomica
DESCRIPTION:ANATOMICA:  \nInternational Comedian & Weird-Lil’-Gremlin\, Amica Hunter (they/them)\, returns to their home town for a one night only performance of their award winning solo solo comedy show. ANATOMICA is a hilarious\, captivating\, and sometimes-unsettling-comedy about skeletons\, and the horrors of living in a body. ANATOMICA is an intimate\, unpredictable exploration of pain\, zoology\, & collective imagination. Every animal has a skeleton – But which biological structural system is the BEST? With candidness and a comfortably casual tone\, Amica reviews the three skeletal systems found in earthly organisms and discusses the limitations of each one. What would it be like to inhabit a body completely alien from our classic human form? A gloriously deranged Ted-Talk by a wanna-be-scientist clown school graduate. Part stand-up\, part storytelling\, and part clown\, ANATOMICA is an investigation of the inadequacies of different animal body models\, and a celebration of the absurdity of being trapped in a body that is limited by pain\, fatigue\, and ultimately decay. But\, you know\, make it fun!\n\nDoors at 7:30pm\, Show at 8:00pm. 75 min long\, no intermission\, PG-13 \n\n\nPraise for ANATOMICA: \n“Anatomica is an hour of chewy\, fleshy charm. Amica Hunter’s stand-up set disguised as a serious science lesson is like the mutant love child of Laurie Anderson and David Attenborough”  ★★★★★ -Fish Griwkowsky\, The Edmonton Journal \n“Anatomica is a kick in the pants that delightfully reflects the roots of alternative performance.” – Mallory Moad\, Kings River Life Magazine“Weirdly captivating solo comedy…category-resistant brilliance…” – Liz Nichols\, 12thNight.ca \n“Masterfully done” – Murray Hunter\, Jenny Revue \nWinner of:Cincinnati Fringe Artists’ Pick Award – 2023Official Holdover – Edmonton Fringe 2023 \nSold Out Shows In:Cincinnati\, OH\,Vancouver\, BCNew Orleans\, LAEdmonton\, ABPortland OROlympia\, WAEugene\, ORArcata\, CA \nAbout the Artist: \nAmica Hunter (they/them) is your basic multi-layered mammalian organism – a creaking calcium scaffolding\, wrapped in wet pulsing blood tubes and layers of raw meat\, all dipped in a skin coating and rolled in hair – like some sort of effed up\, sentient\, caramel apple. Amica grew up in Albuquerque\, moved to Portland\, OR after graduating high school\, and promptly dropped out of college to attend clown school at the San Francisco Circus Center. They have been creating\, performing\, and touring physical comedy shows ever since. Amica co-founded the 20x award winning physical comedy duo\, A Little Bit Off\, which created and toured shows around the US\, Canada\, Europe\, Australia\, and New Zealand from 2013 to 2022.
URL:https://q-staff.com/event/anatomica/
LOCATION:q-Staff theatre\, 400 Broadway Blvd SE\, Albuquerque\, NM\, 87102\, United States
CATEGORIES:Comedy,Community,Live Theater
ATTACH;FMTTYPE=image/jpeg:https://q-staff.com/wordpress/wp-content/uploads/2024/05/ANATOMICA-Poster-fillable.jpg
ORGANIZER;CN="q-Staff Theatre":MAILTO:stimmstaffer@yahoo.com
END:VEVENT
END:VCALENDAR