BEGIN:VCALENDAR
VERSION:2.0
PRODID:-//q-Staff Theatre - ECPv6.15.11//NONSGML v1.0//EN
CALSCALE:GREGORIAN
METHOD:PUBLISH
X-ORIGINAL-URL:https://q-staff.com
X-WR-CALDESC:Events for q-Staff Theatre
REFRESH-INTERVAL;VALUE=DURATION:PT1H
X-Robots-Tag:noindex
X-PUBLISHED-TTL:PT1H
BEGIN:VTIMEZONE
TZID:America/Denver
BEGIN:DAYLIGHT
TZOFFSETFROM:-0700
TZOFFSETTO:-0600
TZNAME:MDT
DTSTART:20230312T090000
END:DAYLIGHT
BEGIN:STANDARD
TZOFFSETFROM:-0600
TZOFFSETTO:-0700
TZNAME:MST
DTSTART:20231105T080000
END:STANDARD
BEGIN:DAYLIGHT
TZOFFSETFROM:-0700
TZOFFSETTO:-0600
TZNAME:MDT
DTSTART:20240310T090000
END:DAYLIGHT
BEGIN:STANDARD
TZOFFSETFROM:-0600
TZOFFSETTO:-0700
TZNAME:MST
DTSTART:20241103T080000
END:STANDARD
BEGIN:DAYLIGHT
TZOFFSETFROM:-0700
TZOFFSETTO:-0600
TZNAME:MDT
DTSTART:20250309T090000
END:DAYLIGHT
BEGIN:STANDARD
TZOFFSETFROM:-0600
TZOFFSETTO:-0700
TZNAME:MST
DTSTART:20251102T080000
END:STANDARD
BEGIN:DAYLIGHT
TZOFFSETFROM:-0700
TZOFFSETTO:-0600
TZNAME:MDT
DTSTART:20260308T090000
END:DAYLIGHT
BEGIN:STANDARD
TZOFFSETFROM:-0600
TZOFFSETTO:-0700
TZNAME:MST
DTSTART:20261101T080000
END:STANDARD
END:VTIMEZONE
BEGIN:VEVENT
DTSTART;TZID=America/Denver:20251220T170000
DTEND;TZID=America/Denver:20251220T190000
DTSTAMP:20260424T012423
CREATED:20251203T232341Z
LAST-MODIFIED:20251203T232341Z
UID:2490-1766250000-1766257200@q-staff.com
SUMMARY:Zambomba: Navidad Flamenca
DESCRIPTION:
URL:https://q-staff.com/event/zambomba-navidad-flamenca/
LOCATION:q-Staff theatre\, 400 Broadway Blvd SE\, Albuquerque\, NM\, 87102\, United States
CATEGORIES:Community,Dance,Food,Music,visual art
ATTACH;FMTTYPE=image/webp:https://q-staff.com/wordpress/wp-content/uploads/2025/12/zambomba-yes-q-staff-Dec.20-21.webp
END:VEVENT
BEGIN:VEVENT
DTSTART;TZID=America/Denver:20250907T190000
DTEND;TZID=America/Denver:20250907T210000
DTSTAMP:20260424T012423
CREATED:20250903T182022Z
LAST-MODIFIED:20250903T182022Z
UID:2435-1757271600-1757278800@q-staff.com
SUMMARY:Bad Mouth Autumn Frolic
DESCRIPTION:You’re invited to Bad Mouth Autumn Frolic!\nWhen: Saturday\, September 6th. Show starts at 7pm\, doors open at 6:30\nWhere: q-Staff theater\, 400 Broadway Blvd SE\, Albuquerque\, NM 87102\n(parking available along Broadway) \nWhat: Reading\, music\, books\, snacks\, beverages\, fun\, delight! \nCome on out to enjoy great poetry\, nonfiction\, music\, and snacks\, and to raise some money for a very worthwhile cause. The majority of proceeds will be donated to the New Mexico Dream Team! \nPlease join us! \nFeaturing writers Lisa Hase-Jackson\, Gary Jackson\, and Christina Socorro Yovovich\, and musician Keith Burnstein! \nAs always\, there will be snacks and beverages! \nYou can reserve your place ahead of time (to help us know how many snacks to make and beverages to provide)! \nVenmo BadMouth Burque @bad-mouth. Tell us how many places you are reserving. \nSuggested amounts:\nUnder 18 or student: $5 per person\nAdult: $10 per person\nAny amount donation is helpful and very welcome for sustaining the series!\n\nLisa Hase-Jackson \n\nGary Jackson \n\nChristina Socorro Yovovich \n\nKeith Burnstein \nHope to see you there! \n-Rebecca at Bad Mouth \n  \n  \n  \n  \n\n\n\n\n 
URL:https://q-staff.com/event/bad-mouth-autumn-frolic/
LOCATION:q-Staff theatre\, 400 Broadway Blvd SE\, Albuquerque\, NM\, 87102\, United States
CATEGORIES:Community,Food,Music,Poetry and Music
ORGANIZER;CN="Bad Mouth":MAILTO:Badmouth@plumeforwriters.org
END:VEVENT
BEGIN:VEVENT
DTSTART;TZID=America/Denver:20240629T173000
DTEND;TZID=America/Denver:20240629T190000
DTSTAMP:20260424T012423
CREATED:20240522T180713Z
LAST-MODIFIED:20240622T183304Z
UID:2273-1719682200-1719687600@q-staff.com
SUMMARY:Acapella
DESCRIPTION:In the dry heat of June… \nFollow your heart’s thirsting to the cool embrace of art and flamenco! \nAMF Productions Presents: \nACAPELLA: BAILE Y VOZ! \n  \n   A traditional communal gathering in art\, flamenco and refreshment of body and soul. Admission price includes art exhibition\, a hearty serving of Spanish tapas and paella with sangria\, and flamenco performance featuring local and european guest artists – don’t miss this feast for the senses in the cool\, inviting spaces of q-Staff Theatre! \n   A Capella  highlights flamenco dance and cante (singing) with the rhythms of flamenco and Afro Cuban songs. A Capella features an all women cast focusing on  women´s strength\, demeanor\, and creativity. \nSurrounding the performance will be original artwork by Adriana Maresma Fois \nFeaturing: \nMarta Roverato: dancer from Italy\nMaria del Mar Fernández:  Singer from Spain\nTraditional tapas offering includes: \n\nManchego Spanish Goat cheese\nJamón Serrano\nChorizo\nTortilla española (potatoe  and egg\, onion frittata)\nCrackers\, bread\nolives\nTres Leches dessert\nSangría/ non alcoholic sangría\n\nTickets at www.holdmyticket.com (limited seating) \nInfo: www.amflamencodance.com \n*courtesy of Casa Flamenco \nTickets at www.holdmyticket.com (limited seating) \n$20 single ticket \n$35 two tickets \nInfo: www.amflamencodance.com
URL:https://q-staff.com/event/acapela-2024-06-22/
LOCATION:q-Staff theatre\, 400 Broadway Blvd SE\, Albuquerque\, NM\, 87102\, United States
CATEGORIES:Community,Dance,Food,Live Theater,Music
ATTACH;FMTTYPE=image/jpeg:https://q-staff.com/wordpress/wp-content/uploads/2024/05/abq-show-acapella.jpg
END:VEVENT
BEGIN:VEVENT
DTSTART;TZID=America/Denver:20240628T173000
DTEND;TZID=America/Denver:20240628T190000
DTSTAMP:20260424T012423
CREATED:20240522T180713Z
LAST-MODIFIED:20240622T183221Z
UID:2270-1719595800-1719601200@q-staff.com
SUMMARY:Acapella
DESCRIPTION:In the dry heat of June… \nFollow your heart’s thirsting to the cool embrace of art and flamenco! \nAMF Productions Presents: \nACAPELLA: BAILE Y VOZ! \n  \n   A traditional communal gathering in art\, flamenco and refreshment of body and soul. Admission price includes art exhibition\, a hearty serving of Spanish tapas and paella with sangria\, and flamenco performance featuring local and european guest artists – don’t miss this feast for the senses in the cool\, inviting spaces of q-Staff Theatre! \n   A Capella  highlights flamenco dance and cante (singing) with the rhythms of flamenco and Afro Cuban songs. A Capella features an all women cast focusing on  women´s strength\, demeanor\, and creativity. \nSurrounding the performance will be original artwork by Adriana Maresma Fois \nFeaturing:\nMarta Roverato: dancer from Italy\nMaria del Mar Fernández:  Singer from Spain\nTraditional tapas offering includes: \n\nManchego Spanish Goat cheese\nJamón Serrano\nChorizo\nTortilla española (potatoe  and egg\, onion frittata)\nCrackers\, bread\nolives\nTres Leches dessert\nSangría/ non alcoholic sangría\n\nTickets at www.holdmyticket.com (limited seating) \nInfo: www.amflamencodance.com \n*courtesy of Casa Flamenco \nTickets at www.holdmyticket.com (limited seating) \nTicket prices:\n$20 single ticket\n$35 two tickets \nInfo: www.amflamencodance.com
URL:https://q-staff.com/event/acapela/
LOCATION:q-Staff theatre\, 400 Broadway Blvd SE\, Albuquerque\, NM\, 87102\, United States
CATEGORIES:Community,Dance,Food,Live Theater,Music
ATTACH;FMTTYPE=image/jpeg:https://q-staff.com/wordpress/wp-content/uploads/2024/05/abq-show-acapella.jpg
END:VEVENT
END:VCALENDAR