BEGIN:VCALENDAR
VERSION:2.0
PRODID:-//q-Staff Theatre - ECPv6.15.11//NONSGML v1.0//EN
CALSCALE:GREGORIAN
METHOD:PUBLISH
X-WR-CALNAME:q-Staff Theatre
X-ORIGINAL-URL:https://q-staff.com
X-WR-CALDESC:Events for q-Staff Theatre
REFRESH-INTERVAL;VALUE=DURATION:PT1H
X-Robots-Tag:noindex
X-PUBLISHED-TTL:PT1H
BEGIN:VTIMEZONE
TZID:America/Denver
BEGIN:DAYLIGHT
TZOFFSETFROM:-0700
TZOFFSETTO:-0600
TZNAME:MDT
DTSTART:20240310T090000
END:DAYLIGHT
BEGIN:STANDARD
TZOFFSETFROM:-0600
TZOFFSETTO:-0700
TZNAME:MST
DTSTART:20241103T080000
END:STANDARD
BEGIN:DAYLIGHT
TZOFFSETFROM:-0700
TZOFFSETTO:-0600
TZNAME:MDT
DTSTART:20250309T090000
END:DAYLIGHT
BEGIN:STANDARD
TZOFFSETFROM:-0600
TZOFFSETTO:-0700
TZNAME:MST
DTSTART:20251102T080000
END:STANDARD
BEGIN:DAYLIGHT
TZOFFSETFROM:-0700
TZOFFSETTO:-0600
TZNAME:MDT
DTSTART:20260308T090000
END:DAYLIGHT
BEGIN:STANDARD
TZOFFSETFROM:-0600
TZOFFSETTO:-0700
TZNAME:MST
DTSTART:20261101T080000
END:STANDARD
END:VTIMEZONE
BEGIN:VEVENT
DTSTART;TZID=America/Denver:20251107T200000
DTEND;TZID=America/Denver:20251107T223000
DTSTAMP:20260424T064928
CREATED:20251102T183015Z
LAST-MODIFIED:20251102T183015Z
UID:2475-1762545600-1762554600@q-staff.com
SUMMARY:Carter Anderson Comedy!
DESCRIPTION:One night only!\nCarter Anderson at q-Staff! \nFriday November 7th \n8pm to 10:30 pm \nDoors open at 7:30 pm \nAll tickets $15
URL:https://q-staff.com/event/carter-anderson-comedy/
LOCATION:q-Staff theatre\, 400 Broadway Blvd SE\, Albuquerque\, NM\, 87102\, United States
CATEGORIES:Comedy,Live Theater
ATTACH;FMTTYPE=image/webp:https://q-staff.com/wordpress/wp-content/uploads/2025/11/Carter-Anderson.webp
ORGANIZER;CN="q-Staff Theatre":MAILTO:stimmstaffer@yahoo.com
END:VEVENT
BEGIN:VEVENT
DTSTART;TZID=America/Denver:20251115T130000
DTEND;TZID=America/Denver:20251115T160000
DTSTAMP:20260424T064928
CREATED:20251105T190646Z
LAST-MODIFIED:20251105T190646Z
UID:2479-1763211600-1763222400@q-staff.com
SUMMARY:AUDITION: 3 Muses Performance Collective
DESCRIPTION:3 Muses Performance Collective (3MPC) is holding auditions for female identified storytellers for 3MPC’s inaugural event\, “3 Muses Storytelling: Small Moments”- an evening of Small Bites\, Small Moments\, and Big Stories on Jan 16th and 17th\, 2026.\nAuditions will be held on Saturday\, November 15th from 1PM – 4PM at Q-Staff Theatre\, located at 400 Broadway Blvd SE.  10-minute audition slots are available by appointment only.  Auditioners should prepare a short (approx. 5 min) story on any topic (related to “small moments” is encouraged\, but any stories welcome) and send a headshot and resume if available.  3 Muses has a mission to amplify women’s stories and casts without consideration to ability\, race\, ethnicity\, sexual orientation\, size\, or shape.  To schedule an audition spot\, email 3MPCABQ@gmail.com.\n\nPerformances January 16 and 17\, 2026 with rehearsals beginning in early December.  Storytellers will work with professional writers and producers to craft an engaging evening that focuses women’s voices on the topic of “Small Moments”.
URL:https://q-staff.com/event/audition-3-muses-performance-collective/
CATEGORIES:Auditions,Live Theater
ATTACH;FMTTYPE=image/jpeg:https://q-staff.com/wordpress/wp-content/uploads/2015/06/community.jpg
END:VEVENT
END:VCALENDAR