BEGIN:VCALENDAR
VERSION:2.0
PRODID:-//q-Staff Theatre - ECPv6.15.11//NONSGML v1.0//EN
CALSCALE:GREGORIAN
METHOD:PUBLISH
X-WR-CALNAME:q-Staff Theatre
X-ORIGINAL-URL:https://q-staff.com
X-WR-CALDESC:Events for q-Staff Theatre
REFRESH-INTERVAL;VALUE=DURATION:PT1H
X-Robots-Tag:noindex
X-PUBLISHED-TTL:PT1H
BEGIN:VTIMEZONE
TZID:America/Denver
BEGIN:DAYLIGHT
TZOFFSETFROM:-0700
TZOFFSETTO:-0600
TZNAME:MDT
DTSTART:20240310T090000
END:DAYLIGHT
BEGIN:STANDARD
TZOFFSETFROM:-0600
TZOFFSETTO:-0700
TZNAME:MST
DTSTART:20241103T080000
END:STANDARD
BEGIN:DAYLIGHT
TZOFFSETFROM:-0700
TZOFFSETTO:-0600
TZNAME:MDT
DTSTART:20250309T090000
END:DAYLIGHT
BEGIN:STANDARD
TZOFFSETFROM:-0600
TZOFFSETTO:-0700
TZNAME:MST
DTSTART:20251102T080000
END:STANDARD
BEGIN:DAYLIGHT
TZOFFSETFROM:-0700
TZOFFSETTO:-0600
TZNAME:MDT
DTSTART:20260308T090000
END:DAYLIGHT
BEGIN:STANDARD
TZOFFSETFROM:-0600
TZOFFSETTO:-0700
TZNAME:MST
DTSTART:20261101T080000
END:STANDARD
END:VTIMEZONE
BEGIN:VEVENT
DTSTART;TZID=America/Denver:20251122T190000
DTEND;TZID=America/Denver:20251122T220000
DTSTAMP:20260424T094539
CREATED:20251105T190231Z
LAST-MODIFIED:20251105T190231Z
UID:2477-1763838000-1763848800@q-staff.com
SUMMARY:Bad Mouth: Pumpkin Spice Edition
DESCRIPTION:Bad Mouth Words and Music: Pumpkin Spice Edition! \nNovember 22\, 7 pm. Doors open at 6:30. \n\nJoin us for a magical evening of poetry\, prose\, and music with featured writers Marisa P. Clark\, Joanna Fuhrman\, and David Meischen\, with music by Tom Andes.\nBooks\, snacks\, beverages\, delight!\nThe majority of donations will go to the New Mexico Immigrant Law Center! \nTo reserve space ahead of time\, just Venmo BadMouth Burque @bad-mouth\n& let us know how many seats you’d like. \nSuggested donations:\nUnder 18/student: $5\nAdult: $10-20
URL:https://q-staff.com/event/bad-mouth-pumpkin-spice-edition/
LOCATION:q-Staff theatre\, 400 Broadway Blvd SE\, Albuquerque\, NM\, 87102\, United States
CATEGORIES:Community,Music,Poetry and Music
ATTACH;FMTTYPE=image/webp:https://q-staff.com/wordpress/wp-content/uploads/2025/05/Bad-mouth-logo.webp
ORGANIZER;CN="Bad Mouth":MAILTO:Badmouth@plumeforwriters.org
END:VEVENT
END:VCALENDAR