BEGIN:VCALENDAR
VERSION:2.0
PRODID:-//q-Staff Theatre - ECPv6.15.11//NONSGML v1.0//EN
CALSCALE:GREGORIAN
METHOD:PUBLISH
X-ORIGINAL-URL:https://q-staff.com
X-WR-CALDESC:Events for q-Staff Theatre
REFRESH-INTERVAL;VALUE=DURATION:PT1H
X-Robots-Tag:noindex
X-PUBLISHED-TTL:PT1H
BEGIN:VTIMEZONE
TZID:America/Denver
BEGIN:DAYLIGHT
TZOFFSETFROM:-0700
TZOFFSETTO:-0600
TZNAME:MDT
DTSTART:20170312T090000
END:DAYLIGHT
BEGIN:STANDARD
TZOFFSETFROM:-0600
TZOFFSETTO:-0700
TZNAME:MST
DTSTART:20171105T080000
END:STANDARD
BEGIN:DAYLIGHT
TZOFFSETFROM:-0700
TZOFFSETTO:-0600
TZNAME:MDT
DTSTART:20180311T090000
END:DAYLIGHT
BEGIN:STANDARD
TZOFFSETFROM:-0600
TZOFFSETTO:-0700
TZNAME:MST
DTSTART:20181104T080000
END:STANDARD
BEGIN:DAYLIGHT
TZOFFSETFROM:-0700
TZOFFSETTO:-0600
TZNAME:MDT
DTSTART:20190310T090000
END:DAYLIGHT
BEGIN:STANDARD
TZOFFSETFROM:-0600
TZOFFSETTO:-0700
TZNAME:MST
DTSTART:20191103T080000
END:STANDARD
BEGIN:DAYLIGHT
TZOFFSETFROM:-0700
TZOFFSETTO:-0600
TZNAME:MDT
DTSTART:20200308T090000
END:DAYLIGHT
BEGIN:STANDARD
TZOFFSETFROM:-0600
TZOFFSETTO:-0700
TZNAME:MST
DTSTART:20201101T080000
END:STANDARD
BEGIN:DAYLIGHT
TZOFFSETFROM:-0700
TZOFFSETTO:-0600
TZNAME:MDT
DTSTART:20210314T090000
END:DAYLIGHT
BEGIN:STANDARD
TZOFFSETFROM:-0600
TZOFFSETTO:-0700
TZNAME:MST
DTSTART:20211107T080000
END:STANDARD
END:VTIMEZONE
BEGIN:VEVENT
DTSTART;TZID=America/Denver:20200306T193000
DTEND;TZID=America/Denver:20200306T213000
DTSTAMP:20260424T030849
CREATED:20200213T213239Z
LAST-MODIFIED:20200213T220108Z
UID:2247-1583523000-1583530200@q-staff.com
SUMMARY:Dr Finnegan's Circus Side Show!
DESCRIPTION:Dubbed the “Looney Tunes of Sideshow”\, Doctor Finnegan’s Circus is an award winning three-man comedy troupe based out of Fall River\, Massachusetts.  \nTheir modern take on classic sideshow stunts\, including the Human Blockhead\, Sword Swallowing and the Bed of Nails\, have entertained audiences from Boston to Austin and all places in between. Fun for all ages\, Doctor Finnegan’s Circus is the greatest show you’ve never seen. \nDoors open at 7:00pm come join us for an evening filled with circus fun. Stilt walking\, Fire breathing\, music\, food and more!  Tickets available at the door.
URL:https://q-staff.com/event/dr-finnegans-circus-side-show/
LOCATION:q-Staff theatre\, 400 Broadway Blvd SE\, Albuquerque\, NM\, 87102\, United States
CATEGORIES:Community,Live Theater,Music
ATTACH;FMTTYPE=image/jpeg:https://q-staff.com/wordpress/wp-content/uploads/2020/02/Dr-Finn.jpg
END:VEVENT
BEGIN:VEVENT
DTSTART;TZID=America/Denver:20190928T190000
DTEND;TZID=America/Denver:20190928T210000
DTSTAMP:20260424T030849
CREATED:20190822T005538Z
LAST-MODIFIED:20190822T005729Z
UID:2217-1569697200-1569704400@q-staff.com
SUMMARY:Bad Mouth
DESCRIPTION:Bad Mouth words | music | feelings \n\n\n\n\n\n\n\n\nSaturday\, September 28 | 7 p.m. \nGREGORY MARTIN is the author of the memoir Stories for Boys\, a Barnes & Noble Discover Great New Writers \npick and the Seattle Reads One City\, One Book selection for 2013. Martin’s first book\, Mountain City\, received a Washington State Book Award\, was named a New York Times Notable Book\, and is referred to by some people in Mountain City as “the book.” Martin’s work has appeared in such magazines as The Sun\, Image\, Kenyon Review Online\, Witness\, and the Los Angeles Review of Books. He teaches creative writing at the University of New Mexico. \nCATHERINE STRISIK is the author of Insectum Gravitis\, The Mistress\, winner of the 2017 New Mexico- \nArizona Book Award in Poetry; Thousand-Cricket Song; and a manuscript-in-progress\, Caterina. Strisik’s poems appear in Journal of Feminist Studies in Religion\, Poet Lore\, Drunken Boat\, Connotation Press: An Online Artifact\, and elsewhere\, and have been translated into Persian and Greek. Strisik has received grants\, honors\, and prizes from CutThroat\, Peregrine\, Comstock Review\, The Southwest Literary Center\, and ThePuffin Foundation\, as well as residencies at the Vermont Studio Center\, Truchas Peaks Place\, and Christ in the Desert Monastery. \n\n\nq-Staff Theatre | 400 Broadway S.E. \nCHRISTINA SOCORRO YOVOVICH \nlives in Albuquerque\, New Mexico. \nShe has an MFA in poetry and nonfiction and her poetry has appeared in journals such as Blue Mesa Review and River Styx. Her nonfiction has appeared in Mutha Magazine. She is at work on a memoir of her mental \nillness and parenting. \n\n\n \n\n\nZACK FREEMAN is a looping\, sampling acapella performer. He’s been looping in New Mexico since \n2004. While primarily a beatboxer/vocal percussionist\, Zack also is a serious lyricist. He takes the struggles of the ordinary and brings them to center stage\, placing the humanity in a groove that moves the heart and body. The majority of his inspiration comes from his life as a husband and father and son in a mixed race family. Zack has appeared on America’s Got Talent and the Jerry Lewis Telethon in addition to performing all over the United States at colleges\, fairs\, and festivals. But that was a long time ago\, and now he mostly goes to work and tries to keep up with his teenager. Zack is a simple person trying to explain complex problems… which is why he uses beatboxing to make one-sidedarguments through music. At his current job\, he is a one-manproduction team doing design\, motion graphics\, video\, and music production. \n\n\n\n\n\n\n\n\n[$5-10 donations help sustain the series] [FB\, Twittter\, & Instagram @badmouthburque]
URL:https://q-staff.com/event/bad-mouth-3/
LOCATION:q-Staff theatre\, 400 Broadway Blvd SE\, Albuquerque\, NM\, 87102\, United States
CATEGORIES:Community,Live Theater,Music,Poetry and Music
ATTACH;FMTTYPE=image/jpeg:https://q-staff.com/wordpress/wp-content/uploads/2018/09/Bad-Mouth.jpg
END:VEVENT
BEGIN:VEVENT
DTSTART;TZID=America/Denver:20180303T190000
DTEND;TZID=America/Denver:20180303T203000
DTSTAMP:20260424T030849
CREATED:20180302T231733Z
LAST-MODIFIED:20180302T234006Z
UID:1775-1520103600-1520109000@q-staff.com
SUMMARY:Bad Mouth
DESCRIPTION:Bad Mouth: Words\, Music\, Feelings\, Resistance! \nFeaturing: Tyler Mills\, Michelle Otero\, and Lise Goett\, with music by Ermine. \nYou won’t want to miss this!
URL:https://q-staff.com/event/bad-mouth/
LOCATION:q-Staff theatre\, 400 Broadway Blvd SE\, Albuquerque\, NM\, 87102\, United States
CATEGORIES:Community,Music
ATTACH;FMTTYPE=image/jpeg:https://q-staff.com/wordpress/wp-content/uploads/2018/03/17202937_1890631581174309_2645035579247891562_n.jpg
END:VEVENT
END:VCALENDAR