BEGIN:VCALENDAR
VERSION:2.0
PRODID:-//q-Staff Theatre - ECPv6.15.11//NONSGML v1.0//EN
CALSCALE:GREGORIAN
METHOD:PUBLISH
X-ORIGINAL-URL:https://q-staff.com
X-WR-CALDESC:Events for q-Staff Theatre
REFRESH-INTERVAL;VALUE=DURATION:PT1H
X-Robots-Tag:noindex
X-PUBLISHED-TTL:PT1H
BEGIN:VTIMEZONE
TZID:America/Denver
BEGIN:DAYLIGHT
TZOFFSETFROM:-0700
TZOFFSETTO:-0600
TZNAME:MDT
DTSTART:20180311T090000
END:DAYLIGHT
BEGIN:STANDARD
TZOFFSETFROM:-0600
TZOFFSETTO:-0700
TZNAME:MST
DTSTART:20181104T080000
END:STANDARD
BEGIN:DAYLIGHT
TZOFFSETFROM:-0700
TZOFFSETTO:-0600
TZNAME:MDT
DTSTART:20190310T090000
END:DAYLIGHT
BEGIN:STANDARD
TZOFFSETFROM:-0600
TZOFFSETTO:-0700
TZNAME:MST
DTSTART:20191103T080000
END:STANDARD
BEGIN:DAYLIGHT
TZOFFSETFROM:-0700
TZOFFSETTO:-0600
TZNAME:MDT
DTSTART:20200308T090000
END:DAYLIGHT
BEGIN:STANDARD
TZOFFSETFROM:-0600
TZOFFSETTO:-0700
TZNAME:MST
DTSTART:20201101T080000
END:STANDARD
BEGIN:DAYLIGHT
TZOFFSETFROM:-0700
TZOFFSETTO:-0600
TZNAME:MDT
DTSTART:20210314T090000
END:DAYLIGHT
BEGIN:STANDARD
TZOFFSETFROM:-0600
TZOFFSETTO:-0700
TZNAME:MST
DTSTART:20211107T080000
END:STANDARD
BEGIN:DAYLIGHT
TZOFFSETFROM:-0700
TZOFFSETTO:-0600
TZNAME:MDT
DTSTART:20220313T090000
END:DAYLIGHT
BEGIN:STANDARD
TZOFFSETFROM:-0600
TZOFFSETTO:-0700
TZNAME:MST
DTSTART:20221106T080000
END:STANDARD
BEGIN:DAYLIGHT
TZOFFSETFROM:-0700
TZOFFSETTO:-0600
TZNAME:MDT
DTSTART:20230312T090000
END:DAYLIGHT
BEGIN:STANDARD
TZOFFSETFROM:-0600
TZOFFSETTO:-0700
TZNAME:MST
DTSTART:20231105T080000
END:STANDARD
BEGIN:DAYLIGHT
TZOFFSETFROM:-0700
TZOFFSETTO:-0600
TZNAME:MDT
DTSTART:20240310T090000
END:DAYLIGHT
BEGIN:STANDARD
TZOFFSETFROM:-0600
TZOFFSETTO:-0700
TZNAME:MST
DTSTART:20241103T080000
END:STANDARD
BEGIN:DAYLIGHT
TZOFFSETFROM:-0700
TZOFFSETTO:-0600
TZNAME:MDT
DTSTART:20250309T090000
END:DAYLIGHT
BEGIN:STANDARD
TZOFFSETFROM:-0600
TZOFFSETTO:-0700
TZNAME:MST
DTSTART:20251102T080000
END:STANDARD
BEGIN:DAYLIGHT
TZOFFSETFROM:-0700
TZOFFSETTO:-0600
TZNAME:MDT
DTSTART:20260308T090000
END:DAYLIGHT
BEGIN:STANDARD
TZOFFSETFROM:-0600
TZOFFSETTO:-0700
TZNAME:MST
DTSTART:20261101T080000
END:STANDARD
END:VTIMEZONE
BEGIN:VEVENT
DTSTART;TZID=America/Denver:20251122T190000
DTEND;TZID=America/Denver:20251122T220000
DTSTAMP:20260424T064958
CREATED:20251105T190231Z
LAST-MODIFIED:20251105T190231Z
UID:2477-1763838000-1763848800@q-staff.com
SUMMARY:Bad Mouth: Pumpkin Spice Edition
DESCRIPTION:Bad Mouth Words and Music: Pumpkin Spice Edition! \nNovember 22\, 7 pm. Doors open at 6:30. \n\nJoin us for a magical evening of poetry\, prose\, and music with featured writers Marisa P. Clark\, Joanna Fuhrman\, and David Meischen\, with music by Tom Andes.\nBooks\, snacks\, beverages\, delight!\nThe majority of donations will go to the New Mexico Immigrant Law Center! \nTo reserve space ahead of time\, just Venmo BadMouth Burque @bad-mouth\n& let us know how many seats you’d like. \nSuggested donations:\nUnder 18/student: $5\nAdult: $10-20
URL:https://q-staff.com/event/bad-mouth-pumpkin-spice-edition/
LOCATION:q-Staff theatre\, 400 Broadway Blvd SE\, Albuquerque\, NM\, 87102\, United States
CATEGORIES:Community,Music,Poetry and Music
ATTACH;FMTTYPE=image/webp:https://q-staff.com/wordpress/wp-content/uploads/2025/05/Bad-mouth-logo.webp
ORGANIZER;CN="Bad Mouth":MAILTO:Badmouth@plumeforwriters.org
END:VEVENT
BEGIN:VEVENT
DTSTART;TZID=America/Denver:20250907T190000
DTEND;TZID=America/Denver:20250907T210000
DTSTAMP:20260424T064958
CREATED:20250903T182022Z
LAST-MODIFIED:20250903T182022Z
UID:2435-1757271600-1757278800@q-staff.com
SUMMARY:Bad Mouth Autumn Frolic
DESCRIPTION:You’re invited to Bad Mouth Autumn Frolic!\nWhen: Saturday\, September 6th. Show starts at 7pm\, doors open at 6:30\nWhere: q-Staff theater\, 400 Broadway Blvd SE\, Albuquerque\, NM 87102\n(parking available along Broadway) \nWhat: Reading\, music\, books\, snacks\, beverages\, fun\, delight! \nCome on out to enjoy great poetry\, nonfiction\, music\, and snacks\, and to raise some money for a very worthwhile cause. The majority of proceeds will be donated to the New Mexico Dream Team! \nPlease join us! \nFeaturing writers Lisa Hase-Jackson\, Gary Jackson\, and Christina Socorro Yovovich\, and musician Keith Burnstein! \nAs always\, there will be snacks and beverages! \nYou can reserve your place ahead of time (to help us know how many snacks to make and beverages to provide)! \nVenmo BadMouth Burque @bad-mouth. Tell us how many places you are reserving. \nSuggested amounts:\nUnder 18 or student: $5 per person\nAdult: $10 per person\nAny amount donation is helpful and very welcome for sustaining the series!\n\nLisa Hase-Jackson \n\nGary Jackson \n\nChristina Socorro Yovovich \n\nKeith Burnstein \nHope to see you there! \n-Rebecca at Bad Mouth \n  \n  \n  \n  \n\n\n\n\n 
URL:https://q-staff.com/event/bad-mouth-autumn-frolic/
LOCATION:q-Staff theatre\, 400 Broadway Blvd SE\, Albuquerque\, NM\, 87102\, United States
CATEGORIES:Community,Food,Music,Poetry and Music
ORGANIZER;CN="Bad Mouth":MAILTO:Badmouth@plumeforwriters.org
END:VEVENT
BEGIN:VEVENT
DTSTART;TZID=America/Denver:20250510T190000
DTEND;TZID=America/Denver:20250510T213000
DTSTAMP:20260424T064958
CREATED:20250505T185921Z
LAST-MODIFIED:20250505T185921Z
UID:2418-1746903600-1746912600@q-staff.com
SUMMARY:Bad Mouth- Spring!
DESCRIPTION:BAD MOUTH Words | Music | Feelings \nYou’re invited to Bad Mouth Spring Winds Edition!\nWhen: Saturday\, May 10th. Show starts at 7pm\, doors open at 6:30\nWhere: q-Staff theater\, 400 Broadway Blvd SE\, Albuquerque\, NM 87102\n(parking available along Broadway) \nWhat: Reading\, music\, books\, snacks\, beverages\, fun\, delight! \nCome on out to enjoy great poetry\, music\, and snacks\, and to raise some money for a very worthwhile cause. The majority of proceeds will be donated to El Centro de Igualdad y Derechos! \nPlease join us! \nFeaturing poets James Arthur\, Mary B. Moore\, and Lise Goett\, and music by Good Troy Edwards! \nAs always\, there will be snacks and beverages! \nYou can reserve your place ahead of time (to help us know how many snacks to make and beverages to provide)! \nVenmo BadMouth Burque @bad-mouth. Tell us how many places you are reserving. \nSuggested amounts:\nUnder 18 or student: $5 per person\nAdult: $10 per person\nAny amount donation is helpful and very welcome for sustaining the series!\n\nJames Arthur \n\nMary B. Moore \n\nLise Goett \n\nGood Troy Edward \nHope to see you there! \n-Rebecca at Bad Mouth \n  \n  \n  \n 
URL:https://q-staff.com/event/bad-mouth-spring/
LOCATION:q-Staff theatre\, 400 Broadway Blvd SE\, Albuquerque\, NM\, 87102\, United States
CATEGORIES:Community,Poetry and Music
END:VEVENT
BEGIN:VEVENT
DTSTART;TZID=America/Denver:20250208T190000
DTEND;TZID=America/Denver:20250208T210000
DTSTAMP:20260424T064958
CREATED:20250201T162511Z
LAST-MODIFIED:20250201T162511Z
UID:2389-1739041200-1739048400@q-staff.com
SUMMARY:Bad Mouth February
DESCRIPTION:BAD MOUTH Words | Music | Feelings \nDEAR FRIENDS OF BAD MOUTH\, \nPlease join us for our next event\, Bad Mouth Words & Music on Saturday\, February 8th! \nSaturday\, February 8th.\nDoors open at 6:30\, show starts at 7:00. \nFeaturing Santa Fe poets Jenny George and Carol Moldaw\, Albuquerque fiction writer (and musician) Tom Andes\, with music by Albuquerque musician Cody Ryan! \nAs always\, there will be snacks and beverages! \nYou can reserve your place ahead of time (to help us know how many snacks to make and beverages to provide)! \nVenmo BadMouth Burque @bad-mouth. Tell us how many places you are reserving. \nSuggested amounts:\nUnder 18 or student: $5 per person\nAdult: $10 per person\nAny amount donation is helpful and very welcome for sustaining the series! \n\nJenny George\n Carol Moldaw \n\nTom Andes \n\nCody Ryan \nHope to see you there! \n-Rebecca at Bad Mouth \n  \n  \n\n\n\n\n\n\n\n\n\n\n\n\n\n\n\n\n\n\n\n\n\n\n\n\n\n\n\n\n\n\n\n\n\n\n\n\n\n\n\n\n\n\n\n\n\n\n\n\n\n\n\n\n\n\n\n\n\n\n\n\n\n\n\n\n\n\n\n\n\n\n\n\n\n\n\n\n\n\n\n\n\n\n\n\n\n\n\n\n\n\n\n\n\n\n\n\n\n\n\n\n\n\n\n\n\n\n\n\n\n\n\n\n\n\n\n\n\n\n\n\n\n\n\n\n\n\n\n\n\n\n\n\n\n\n\n\n\n\n\n\n\n\n\n\n\n\n\n\n\n\n\n\n\n\n\n\nCopyright © 2020 BADMOUTHBURQUE \nOur mailing address is:\nBadmouth@plumeforwriters.org \nWant to change how you receive these emails?\nYou can update your preferences or unsubscribe from this list. \n*
URL:https://q-staff.com/event/bad-mouth-february/
LOCATION:q-Staff theatre\, 400 Broadway Blvd SE\, Albuquerque\, NM\, 87102\, United States
CATEGORIES:Community,Poetry and Music
ATTACH;FMTTYPE=image/png:https://q-staff.com/wordpress/wp-content/uploads/2025/02/mail.png
END:VEVENT
BEGIN:VEVENT
DTSTART;TZID=America/Denver:20241109T183000
DTEND;TZID=America/Denver:20241109T213000
DTSTAMP:20260424T064958
CREATED:20241015T004510Z
LAST-MODIFIED:20241015T004510Z
UID:2374-1731177000-1731187800@q-staff.com
SUMMARY:Bad Mouth!  November
DESCRIPTION:BAD MOUTH Words | Music | Feelings \nDEAR FRIENDS OF BAD MOUTH\, \nPlease join us for our next event\, Bad Mouth in Autumn! \nSaturday\, November 9th.\nDoors open at 6:30\, show starts at 7:00. \nFeaturing New Mexico Book Award winner (2023) Cynthia Sylvester\, fiction writer Shannon Robinson reading from her debut collection of short stories\, and poet and essayist John Wall Barger\, with music by local talents Bébé La La! \nAs always\, there will be snacks and beverages! \nYou can reserve your place ahead of time (to help us know how many snacks to make and beverages to provide)! \nVenmo BadMouth Burque @bad-mouth. Tell us how many places you are reserving. \nSuggested amounts:\nUnder 18 or student: $5 per person\nAdult: $10 per person\nAny amount donation is helpful and very welcome for sustaining the series!\n\nCynthia Sylvester \n\nShannon Robinson \n\nJohn Wall Barger \n\nBébé La La \nHope to see you there! \n-Rebecca at Bad Mouth \n  \n 
URL:https://q-staff.com/event/bad-mouth-november/
LOCATION:q-Staff theatre\, 400 Broadway Blvd SE\, Albuquerque\, NM\, 87102\, United States
CATEGORIES:Community,Music,Poetry and Music
ATTACH;FMTTYPE=image/png:https://q-staff.com/wordpress/wp-content/uploads/2024/10/Bad-Mouth-November.png
ORGANIZER;CN="q-Staff Theatre":MAILTO:stimmstaffer@yahoo.com
END:VEVENT
BEGIN:VEVENT
DTSTART;TZID=America/Denver:20240817T200000
DTEND;TZID=America/Denver:20240817T220000
DTSTAMP:20260424T064958
CREATED:20240807T213137Z
LAST-MODIFIED:20240807T213137Z
UID:2342-1723924800-1723932000@q-staff.com
SUMMARY:Bad Mouth . . .Late Night!
DESCRIPTION:Beat the heat with these very cool performers at Bad Mouth in August! \nSaturday\, August 17th.\nWe’ll start a little later (doors open at 7:30\, show starts at 8:00)\, and there will be plenty of excellent snacks and drinks (Thanks to Tim the snack master).\nFeaturing poetry and prose by superstar writers Johnny Horton\, Radha Marcum\, Greg Martin\, and Becca Yenser\, with musician Ermine playing her dazzling\, hypnotic inventions. \nYou can reserve your place ahead of time (to help us know how many snacks to make and beverages to provide)!\nVenmo BadMouth Burque @bad-mouth. Tell us how many places you are reserving.\nSuggested amounts:\nUnder 18 or student: $5 per person\nAdult: $10 per person\nAny amount donation is helpful and very welcome for sustaining the series!\n\nJohnny Horton \n\nRadha Marcum \n\nGreg Martin\n\nBecca Yenser \n\nErmine \nHope to see you there!\n-Rebecca at Bad Mouth \n  \n 
URL:https://q-staff.com/event/bad-mouth-late-night/
LOCATION:NM
CATEGORIES:Music,Poetry and Music
ATTACH;FMTTYPE=image/png:https://q-staff.com/wordpress/wp-content/uploads/2024/08/Bad-Mouth-Late-night.png
END:VEVENT
BEGIN:VEVENT
DTSTART;TZID=America/Denver:20240525T190000
DTEND;TZID=America/Denver:20240525T210000
DTSTAMP:20260424T064959
CREATED:20240522T175652Z
LAST-MODIFIED:20240522T175948Z
UID:2266-1716663600-1716670800@q-staff.com
SUMMARY:Badmouth Springtime
DESCRIPTION:
URL:https://q-staff.com/event/badmouth-springtime/
LOCATION:q-Staff theatre\, 400 Broadway Blvd SE\, Albuquerque\, NM\, 87102\, United States
CATEGORIES:Community,Poetry and Music
ATTACH;FMTTYPE=image/jpeg:https://q-staff.com/wordpress/wp-content/uploads/2024/05/Bad-Mouth-May-2024.jpg
END:VEVENT
BEGIN:VEVENT
DTSTART;TZID=America/Denver:20200111T190000
DTEND;TZID=America/Denver:20200111T210000
DTSTAMP:20260424T064959
CREATED:20200107T163105Z
LAST-MODIFIED:20200107T163105Z
UID:2240-1578769200-1578776400@q-staff.com
SUMMARY:Bad Mouth: Winter edition
DESCRIPTION:Bad Mouth returns to q-Staff featuring the works of Tiffany Midge\, Mike Smith and Bryce Emley.  Featuring the music of Lady Uranium. \nDoor opens at 6:30 pm and readings begin at 7:00 pm \nAs always\, ample street parking is available along Broadway.
URL:https://q-staff.com/event/bad-mouth-winter-edition/
LOCATION:q-Staff theatre\, 400 Broadway Blvd SE\, Albuquerque\, NM\, 87102\, United States
CATEGORIES:Community,Poetry and Music
ATTACH;FMTTYPE=image/jpeg:https://q-staff.com/wordpress/wp-content/uploads/2020/01/76765624_2503708236533304_8135604318544855040_n.jpg
END:VEVENT
BEGIN:VEVENT
DTSTART;TZID=America/Denver:20190928T190000
DTEND;TZID=America/Denver:20190928T210000
DTSTAMP:20260424T064959
CREATED:20190822T005538Z
LAST-MODIFIED:20190822T005729Z
UID:2217-1569697200-1569704400@q-staff.com
SUMMARY:Bad Mouth
DESCRIPTION:Bad Mouth words | music | feelings \n\n\n\n\n\n\n\n\nSaturday\, September 28 | 7 p.m. \nGREGORY MARTIN is the author of the memoir Stories for Boys\, a Barnes & Noble Discover Great New Writers \npick and the Seattle Reads One City\, One Book selection for 2013. Martin’s first book\, Mountain City\, received a Washington State Book Award\, was named a New York Times Notable Book\, and is referred to by some people in Mountain City as “the book.” Martin’s work has appeared in such magazines as The Sun\, Image\, Kenyon Review Online\, Witness\, and the Los Angeles Review of Books. He teaches creative writing at the University of New Mexico. \nCATHERINE STRISIK is the author of Insectum Gravitis\, The Mistress\, winner of the 2017 New Mexico- \nArizona Book Award in Poetry; Thousand-Cricket Song; and a manuscript-in-progress\, Caterina. Strisik’s poems appear in Journal of Feminist Studies in Religion\, Poet Lore\, Drunken Boat\, Connotation Press: An Online Artifact\, and elsewhere\, and have been translated into Persian and Greek. Strisik has received grants\, honors\, and prizes from CutThroat\, Peregrine\, Comstock Review\, The Southwest Literary Center\, and ThePuffin Foundation\, as well as residencies at the Vermont Studio Center\, Truchas Peaks Place\, and Christ in the Desert Monastery. \n\n\nq-Staff Theatre | 400 Broadway S.E. \nCHRISTINA SOCORRO YOVOVICH \nlives in Albuquerque\, New Mexico. \nShe has an MFA in poetry and nonfiction and her poetry has appeared in journals such as Blue Mesa Review and River Styx. Her nonfiction has appeared in Mutha Magazine. She is at work on a memoir of her mental \nillness and parenting. \n\n\n \n\n\nZACK FREEMAN is a looping\, sampling acapella performer. He’s been looping in New Mexico since \n2004. While primarily a beatboxer/vocal percussionist\, Zack also is a serious lyricist. He takes the struggles of the ordinary and brings them to center stage\, placing the humanity in a groove that moves the heart and body. The majority of his inspiration comes from his life as a husband and father and son in a mixed race family. Zack has appeared on America’s Got Talent and the Jerry Lewis Telethon in addition to performing all over the United States at colleges\, fairs\, and festivals. But that was a long time ago\, and now he mostly goes to work and tries to keep up with his teenager. Zack is a simple person trying to explain complex problems… which is why he uses beatboxing to make one-sidedarguments through music. At his current job\, he is a one-manproduction team doing design\, motion graphics\, video\, and music production. \n\n\n\n\n\n\n\n\n[$5-10 donations help sustain the series] [FB\, Twittter\, & Instagram @badmouthburque]
URL:https://q-staff.com/event/bad-mouth-3/
LOCATION:q-Staff theatre\, 400 Broadway Blvd SE\, Albuquerque\, NM\, 87102\, United States
CATEGORIES:Community,Live Theater,Music,Poetry and Music
ATTACH;FMTTYPE=image/jpeg:https://q-staff.com/wordpress/wp-content/uploads/2018/09/Bad-Mouth.jpg
END:VEVENT
END:VCALENDAR