BEGIN:VCALENDAR
VERSION:2.0
PRODID:-//q-Staff Theatre - ECPv6.15.11//NONSGML v1.0//EN
CALSCALE:GREGORIAN
METHOD:PUBLISH
X-ORIGINAL-URL:https://q-staff.com
X-WR-CALDESC:Events for q-Staff Theatre
REFRESH-INTERVAL;VALUE=DURATION:PT1H
X-Robots-Tag:noindex
X-PUBLISHED-TTL:PT1H
BEGIN:VTIMEZONE
TZID:America/Denver
BEGIN:DAYLIGHT
TZOFFSETFROM:-0700
TZOFFSETTO:-0600
TZNAME:MDT
DTSTART:20250309T090000
END:DAYLIGHT
BEGIN:STANDARD
TZOFFSETFROM:-0600
TZOFFSETTO:-0700
TZNAME:MST
DTSTART:20251102T080000
END:STANDARD
BEGIN:DAYLIGHT
TZOFFSETFROM:-0700
TZOFFSETTO:-0600
TZNAME:MDT
DTSTART:20260308T090000
END:DAYLIGHT
BEGIN:STANDARD
TZOFFSETFROM:-0600
TZOFFSETTO:-0700
TZNAME:MST
DTSTART:20261101T080000
END:STANDARD
BEGIN:DAYLIGHT
TZOFFSETFROM:-0700
TZOFFSETTO:-0600
TZNAME:MDT
DTSTART:20270314T090000
END:DAYLIGHT
BEGIN:STANDARD
TZOFFSETFROM:-0600
TZOFFSETTO:-0700
TZNAME:MST
DTSTART:20271107T080000
END:STANDARD
END:VTIMEZONE
BEGIN:VEVENT
DTSTART;TZID=America/Denver:20260116T193000
DTEND;TZID=America/Denver:20260116T193000
DTSTAMP:20260425T210323
CREATED:20260111T011014Z
LAST-MODIFIED:20260111T011014Z
UID:2507-1768591800-1768591800@q-staff.com
SUMMARY:Three Muses Storytelling: Small Moments
DESCRIPTION:Three Muses Performance Collective presents:\nThree Muses Storytelling: Small Moments\nSpecial event with limited seating in an intimate cabaret-style setting. Dubbed “A Muse Bouche- an evening of Small Bites\, Small Moments\, and Big Stories”\, the performance will include complimentary drinks\, small bites\, and conversation with the 3 Muses and storytellers. \nFriday\, January 16 at 7:30pm \nGeneral Admission Sliding Scale $35 – $45 \n\n\n\ntinyurl.com/3MPC-Tickets
URL:https://q-staff.com/event/three-muses-storytelling-small-moments/
CATEGORIES:Live Theater
ATTACH;FMTTYPE=image/png:https://q-staff.com/wordpress/wp-content/uploads/2026/01/Copy-of-3MUSES_RT.png
END:VEVENT
BEGIN:VEVENT
DTSTART;TZID=America/Denver:20260117T193000
DTEND;TZID=America/Denver:20260117T193000
DTSTAMP:20260425T210323
CREATED:20260111T011608Z
LAST-MODIFIED:20260111T011608Z
UID:2509-1768678200-1768678200@q-staff.com
SUMMARY:
DESCRIPTION:Three Muses Performance Collective presents:\nThree Muses Storytelling: Small Moments\nA theatre-style experience including sweet treats at intermission! \nSmall Moments is a collection of original stories\, curated and developed by guest artist\, Julie Ganey and directed by Sarah Syverson\, founder of The Raven Narratives. Three Muses seeks to empower and uplift women’s voices and experiences through new\, rising and experimental live performance art. \nSaturday\, January 17 at 7:30pm \nGeneral Admission Sliding Scale $15 – $25 \n\n\n\ntinyurl.com/3MPC-Tickets
URL:https://q-staff.com/event/2509/
ATTACH;FMTTYPE=image/webp:https://q-staff.com/wordpress/wp-content/uploads/2026/01/Copy-of-3MUSES_RT.webp
END:VEVENT
END:VCALENDAR