BEGIN:VCALENDAR
VERSION:2.0
PRODID:-//q-Staff Theatre - ECPv6.15.11//NONSGML v1.0//EN
CALSCALE:GREGORIAN
METHOD:PUBLISH
X-WR-CALNAME:q-Staff Theatre
X-ORIGINAL-URL:https://q-staff.com
X-WR-CALDESC:Events for q-Staff Theatre
REFRESH-INTERVAL;VALUE=DURATION:PT1H
X-Robots-Tag:noindex
X-PUBLISHED-TTL:PT1H
BEGIN:VTIMEZONE
TZID:America/Denver
BEGIN:DAYLIGHT
TZOFFSETFROM:-0700
TZOFFSETTO:-0600
TZNAME:MDT
DTSTART:20250309T090000
END:DAYLIGHT
BEGIN:STANDARD
TZOFFSETFROM:-0600
TZOFFSETTO:-0700
TZNAME:MST
DTSTART:20251102T080000
END:STANDARD
BEGIN:DAYLIGHT
TZOFFSETFROM:-0700
TZOFFSETTO:-0600
TZNAME:MDT
DTSTART:20260308T090000
END:DAYLIGHT
BEGIN:STANDARD
TZOFFSETFROM:-0600
TZOFFSETTO:-0700
TZNAME:MST
DTSTART:20261101T080000
END:STANDARD
BEGIN:DAYLIGHT
TZOFFSETFROM:-0700
TZOFFSETTO:-0600
TZNAME:MDT
DTSTART:20270314T090000
END:DAYLIGHT
BEGIN:STANDARD
TZOFFSETFROM:-0600
TZOFFSETTO:-0700
TZNAME:MST
DTSTART:20271107T080000
END:STANDARD
END:VTIMEZONE
BEGIN:VEVENT
DTSTART;TZID=America/Denver:20260228T183000
DTEND;TZID=America/Denver:20260228T203000
DTSTAMP:20260425T195224
CREATED:20260228T211229Z
LAST-MODIFIED:20260228T211805Z
UID:2525-1772303400-1772310600@q-staff.com
SUMMARY:Bad Mouth - Winter Wonderland
DESCRIPTION:Bad Mouth writers reading series launches ’26 with a fantastic line up of authors reading from their newly published\, soon to be published and fresh new works. The readings are interspersed with sounds from a musical guest artist\, and the whole session wraps with delicious snacks\, and a chance to share in conversation and books for sale by the featured authors. \nThis Saturday’s late-winter edition features the poetry of \nAlysse Kathleen McCanna and Juan J. Morales as well as prose by author Ty Bannerman with live music provided by AJ Woods. \nFor more information check out the Bad Mouth website.
URL:https://q-staff.com/event/bad-mouth-winter-wonderland/
ATTACH;FMTTYPE=image/webp:https://q-staff.com/wordpress/wp-content/uploads/2026/02/Bad-Mouth-Feb-28-2026.webp
END:VEVENT
END:VCALENDAR